BEGIN:VCALENDAR
VERSION:2.0
PRODID:-//Chicago Bible Institute - ECPv6.15.20//NONSGML v1.0//EN
CALSCALE:GREGORIAN
METHOD:PUBLISH
X-ORIGINAL-URL:https://chicagobibleinstitute.org
X-WR-CALDESC:Events for Chicago Bible Institute
REFRESH-INTERVAL;VALUE=DURATION:PT1H
X-Robots-Tag:noindex
X-PUBLISHED-TTL:PT1H
BEGIN:VTIMEZONE
TZID:America/Chicago
BEGIN:DAYLIGHT
TZOFFSETFROM:-0600
TZOFFSETTO:-0500
TZNAME:CDT
DTSTART:20170312T080000
END:DAYLIGHT
BEGIN:STANDARD
TZOFFSETFROM:-0500
TZOFFSETTO:-0600
TZNAME:CST
DTSTART:20171105T070000
END:STANDARD
BEGIN:DAYLIGHT
TZOFFSETFROM:-0600
TZOFFSETTO:-0500
TZNAME:CDT
DTSTART:20180311T080000
END:DAYLIGHT
BEGIN:STANDARD
TZOFFSETFROM:-0500
TZOFFSETTO:-0600
TZNAME:CST
DTSTART:20181104T070000
END:STANDARD
BEGIN:DAYLIGHT
TZOFFSETFROM:-0600
TZOFFSETTO:-0500
TZNAME:CDT
DTSTART:20190310T080000
END:DAYLIGHT
BEGIN:STANDARD
TZOFFSETFROM:-0500
TZOFFSETTO:-0600
TZNAME:CST
DTSTART:20191103T070000
END:STANDARD
BEGIN:DAYLIGHT
TZOFFSETFROM:-0600
TZOFFSETTO:-0500
TZNAME:CDT
DTSTART:20200308T080000
END:DAYLIGHT
BEGIN:STANDARD
TZOFFSETFROM:-0500
TZOFFSETTO:-0600
TZNAME:CST
DTSTART:20201101T070000
END:STANDARD
END:VTIMEZONE
BEGIN:VEVENT
DTSTART;VALUE=DATE:20190827
DTEND;VALUE=DATE:20191122
DTSTAMP:20260423T082747
CREATED:20190104T005827Z
LAST-MODIFIED:20190104T010108Z
UID:473-1566864000-1574380799@chicagobibleinstitute.org
SUMMARY:Fall Semester 2019
DESCRIPTION:Every Tuesday and Thursday nights at 7-9pm
URL:https://chicagobibleinstitute.org/event/fall-semester/
LOCATION:Greater Zion Hill MB Church\, 2255 S. Millard Ave.\, Chicago\, IL\, 60623\, United States
END:VEVENT
BEGIN:VEVENT
DTSTART;VALUE=DATE:20190617
DTEND;VALUE=DATE:20190622
DTSTAMP:20260423T082747
CREATED:20190104T005211Z
LAST-MODIFIED:20190104T005256Z
UID:471-1560729600-1561161599@chicagobibleinstitute.org
SUMMARY:Biblical Leadership Intensive
DESCRIPTION:
URL:https://chicagobibleinstitute.org/event/biblical-leadership-intensive/
LOCATION:Greater Zion Hill MB Church\, 2255 S. Millard Ave.\, Chicago\, IL\, 60623\, United States
END:VEVENT
BEGIN:VEVENT
DTSTART;TZID=America/Chicago:20190518T140000
DTEND;TZID=America/Chicago:20190518T160000
DTSTAMP:20260423T082747
CREATED:20190104T004950Z
LAST-MODIFIED:20190104T004950Z
UID:468-1558188000-1558195200@chicagobibleinstitute.org
SUMMARY:Graduation Day
DESCRIPTION:
URL:https://chicagobibleinstitute.org/event/graduation-day/
LOCATION:Greater Zion Hill MB Church\, 2255 S. Millard Ave.\, Chicago\, IL\, 60623\, United States
END:VEVENT
BEGIN:VEVENT
DTSTART;VALUE=DATE:20190416
DTEND;VALUE=DATE:20190517
DTSTAMP:20260423T082747
CREATED:20181208T215600Z
LAST-MODIFIED:20190104T010021Z
UID:444-1555372800-1558051199@chicagobibleinstitute.org
SUMMARY:Spring Workshop 2019
DESCRIPTION:Every Tuesday and Thursday nights at 7-9pm
URL:https://chicagobibleinstitute.org/event/spring-workshop-2019/
LOCATION:IL
END:VEVENT
BEGIN:VEVENT
DTSTART;VALUE=DATE:20190108
DTEND;VALUE=DATE:20190405
DTSTAMP:20260423T082747
CREATED:20180920T012735Z
LAST-MODIFIED:20190104T010038Z
UID:417-1546905600-1554422399@chicagobibleinstitute.org
SUMMARY:Winter Semester 2019
DESCRIPTION:Every Tuesday and Thursday nights at 7-9pm
URL:https://chicagobibleinstitute.org/event/winter-semester-begin/
LOCATION:IL
END:VEVENT
BEGIN:VEVENT
DTSTART;TZID=America/Chicago:20180907T080000
DTEND;TZID=America/Chicago:20180907T170000
DTSTAMP:20260423T082747
CREATED:20180918T074227Z
LAST-MODIFIED:20180920T011428Z
UID:387-1536307200-1536339600@chicagobibleinstitute.org
SUMMARY:New Website Launch
DESCRIPTION:
URL:https://chicagobibleinstitute.org/event/new-website-launch/
LOCATION:IL
ORGANIZER;CN="":MAILTO:Levi2barker@gmail.com
END:VEVENT
END:VCALENDAR